BEGIN:VCALENDAR
VERSION:2.0
PRODID:-//Tukios.com/
BEGIN:VEVENT
UID:ea5b8092-1c31-45d4-bcba-10c3bc33875d@www.waldmanfuneralcare.com
DTSTAMP:20260423T183211Z
DTSTART:20260424T160000Z
DTEND:20260424T170000Z
SUMMARY:Graveside Service
DESCRIPTION:At the Kagan-Rudy Chapel, with Rabbi Pam Silk officiating.
URL:https://www.waldmanfuneralcare.com/obituaries/dr-benjamin-rosenthal-md
LOCATION: 8341 Bissonnet St  Houston TX 77074
GEO:29.6786618;-95.5231417
END:VEVENT
END:VCALENDAR