BEGIN:VCALENDAR
VERSION:2.0
PRODID:-//Tukios.com/
BEGIN:VEVENT
UID:2bf5f7b1-ccf3-4615-a141-7cad87b434ce@www.waldmanfuneralcare.com
DTSTAMP:20260423T183648Z
DTSTART:20260424T170000Z
DTEND:20260424T180000Z
SUMMARY:Interment
DESCRIPTION:At Graveside.
URL:https://www.waldmanfuneralcare.com/obituaries/dr-benjamin-rosenthal-md
LOCATION: 8341 Bissonnet St  Houston TX 77074
GEO:29.6786618;-95.5231417
END:VEVENT
END:VCALENDAR